BEGIN:VCALENDAR
VERSION:2.0
PRODID:-//Plone.org//NONSGML plone.app.event//EN
X-WR-TIMEZONE:America/Sao_Paulo
BEGIN:VEVENT
SUMMARY:Lavagem / manutenção em [ Auditorio Nobre do CAD 1]
DTSTART;TZID=America/Sao_Paulo;VALUE=DATE-TIME:20230807T060000
DTEND;TZID=America/Sao_Paulo;VALUE=DATE-TIME:20230810T220000
DTSTAMP;VALUE=DATE-TIME:20260421T075308Z
UID:48e8d13218e149f0bbe594b25701420b@150.164.76.86:8080
CREATED;VALUE=DATE-TIME:20230804T164631Z
DESCRIPTION:<p>Lavação do Aud Nobre e da portaria/saguão lado B </p>
LAST-MODIFIED;VALUE=DATE-TIME:20230804T164648Z
URL:http://150.164.76.86:8080/cac/agenda/17991214747611221280
END:VEVENT
BEGIN:VTIMEZONE
TZID:America/Sao_Paulo
X-LIC-LOCATION:America/Sao_Paulo
BEGIN:STANDARD
DTSTART;VALUE=DATE-TIME:20230225T230000
TZNAME:BRT
TZOFFSETFROM:-0200
TZOFFSETTO:-0300
END:STANDARD
END:VTIMEZONE
END:VCALENDAR
