BEGIN:VCALENDAR
VERSION:2.0
PRODID:-//Plone.org//NONSGML plone.app.event//EN
X-WR-TIMEZONE:America/Sao_Paulo
BEGIN:VEVENT
SUMMARY:Encontro curso de Psicologia em [ Auditorio A102 do Cad 2]
DTSTART;TZID=America/Sao_Paulo;VALUE=DATE-TIME:20230331T130000
DTEND;TZID=America/Sao_Paulo;VALUE=DATE-TIME:20230331T170000
DTSTAMP;VALUE=DATE-TIME:20260421T180058Z
UID:44030573d5ed45f98b86cc3dfe42344b@150.164.76.86:8080
CREATED;VALUE=DATE-TIME:20230330T133551Z
DESCRIPTION:<p>Profa. solicitou uma mesa para explicar um procedimento esp
 ecífico do curso de Psicologia e como na sala não tem mesa de professor 
 para essa demonstração a Cássia autorizou usar o auditório para essa a
 ula.</p>
LAST-MODIFIED;VALUE=DATE-TIME:20230330T134000Z
URL:http://150.164.76.86:8080/cac/agenda/17986542187341742787
END:VEVENT
BEGIN:VTIMEZONE
TZID:America/Sao_Paulo
X-LIC-LOCATION:America/Sao_Paulo
BEGIN:STANDARD
DTSTART;VALUE=DATE-TIME:20230225T230000
TZNAME:BRT
TZOFFSETFROM:-0200
TZOFFSETTO:-0300
END:STANDARD
END:VTIMEZONE
END:VCALENDAR
