BEGIN:VCALENDAR
VERSION:2.0
PRODID:-//Plone.org//NONSGML plone.app.event//EN
X-WR-TIMEZONE:America/Sao_Paulo
BEGIN:VEVENT
SUMMARY:Visita técnica DCC para evento MiniDebConf 2024 em [ Auditorio A1
 02 do Cad 2 Auditório B101/102 do CAD 3]
DTSTART;TZID=America/Sao_Paulo;VALUE=DATE-TIME:20231106T080000
DTEND;TZID=America/Sao_Paulo;VALUE=DATE-TIME:20231106T100000
DTSTAMP;VALUE=DATE-TIME:20260420T132006Z
UID:7d7701229a6b4547a3538b9de10fbb4d@150.164.76.86:8080
CREATED;VALUE=DATE-TIME:20231017T153144Z
DESCRIPTION:<p><span><span>Será uma visita de cerca de 20 minutos. O intu
 ito da visita é para que a organização do evento: <i>"MiniDebConf 2024"
 </i> possa conhecer a estrutura do auditório para o planejamento técnico
 .</span></span></p>
LAST-MODIFIED;VALUE=DATE-TIME:20231017T153449Z
URL:http://150.164.76.86:8080/cac/agenda/17982165338502846196
END:VEVENT
BEGIN:VTIMEZONE
TZID:America/Sao_Paulo
X-LIC-LOCATION:America/Sao_Paulo
BEGIN:DAYLIGHT
DTSTART;VALUE=DATE-TIME:20231015T010000
TZNAME:BRST
TZOFFSETFROM:-0300
TZOFFSETTO:-0200
END:DAYLIGHT
END:VTIMEZONE
END:VCALENDAR
