BEGIN:VCALENDAR
VERSION:2.0
PRODID:-//Plone.org//NONSGML plone.app.event//EN
X-WR-TIMEZONE:America/Sao_Paulo
BEGIN:VEVENT
SUMMARY:Bloqueio para desligamento e manutenção do reservatório de águ
 a em [ Auditorio Nobre do CAD 1 Auditorio 1A do CAD 1 Auditorio 2A do CAD 
 1 Outros espacos]
DTSTART;TZID=America/Sao_Paulo;VALUE=DATE-TIME:20250210T050000
DTEND;TZID=America/Sao_Paulo;VALUE=DATE-TIME:20250210T230000
DTSTAMP;VALUE=DATE-TIME:20260419T135311Z
UID:72e44c325ccf4732b93ca8662d96ab25@150.164.76.86:8080
CREATED;VALUE=DATE-TIME:20250130T135828Z
DESCRIPTION:<p>Manutenção</p>
LAST-MODIFIED;VALUE=DATE-TIME:20250130T140146Z
URL:http://150.164.76.86:8080/cac/agenda/17972417126083903330
END:VEVENT
BEGIN:VTIMEZONE
TZID:America/Sao_Paulo
X-LIC-LOCATION:America/Sao_Paulo
BEGIN:DAYLIGHT
DTSTART;VALUE=DATE-TIME:20241020T010000
TZNAME:BRST
TZOFFSETFROM:-0300
TZOFFSETTO:-0200
END:DAYLIGHT
END:VTIMEZONE
END:VCALENDAR
