BEGIN:VCALENDAR
VERSION:2.0
PRODID:-//Plone.org//NONSGML plone.app.event//EN
X-WR-TIMEZONE:America/Sao_Paulo
BEGIN:VEVENT
SUMMARY:Domingo no Campus em [ Outros espacos]
DTSTART;TZID=America/Sao_Paulo;VALUE=DATE-TIME:20200517T080000
DTEND;TZID=America/Sao_Paulo;VALUE=DATE-TIME:20200517T140000
DTSTAMP;VALUE=DATE-TIME:20260425T001007Z
UID:896ac9ff68e849bf86a50e159dca4ad7@150.164.76.86:8080
CREATED;VALUE=DATE-TIME:20200102T141413Z
DESCRIPTION:<p>Solicitação feita a pedido da Coordenadora da CAC Cássia
  Monteiro</p>
LAST-MODIFIED;VALUE=DATE-TIME:20200109T192917Z
URL:http://150.164.76.86:8080/cac/agenda/17969110595642276032
END:VEVENT
BEGIN:VTIMEZONE
TZID:America/Sao_Paulo
X-LIC-LOCATION:America/Sao_Paulo
BEGIN:STANDARD
DTSTART;VALUE=DATE-TIME:20200215T230000
TZNAME:BRT
TZOFFSETFROM:-0200
TZOFFSETTO:-0300
END:STANDARD
END:VTIMEZONE
END:VCALENDAR
