BEGIN:VCALENDAR
VERSION:2.0
PRODID:-//Plone.org//NONSGML plone.app.event//EN
X-WR-TIMEZONE:America/Sao_Paulo
BEGIN:VEVENT
SUMMARY:Fundep I Reunião de Trabalho em [ Auditorio Nobre do CAD 1]
DTSTART;TZID=America/Sao_Paulo;VALUE=DATE-TIME:20241204T080000
DTEND;TZID=America/Sao_Paulo;VALUE=DATE-TIME:20241205T190000
DTSTAMP;VALUE=DATE-TIME:20260419T163757Z
UID:72024771ac6c49b5a18fd73aa9a121e6@150.164.76.86:8080
CREATED;VALUE=DATE-TIME:20240708T144716Z
DESCRIPTION:<p>Evento com todos os colaboradores da Fundep.</p>
LAST-MODIFIED;VALUE=DATE-TIME:20241129T114459Z
URL:http://150.164.76.86:8080/cac/agenda/17966114226562620037
END:VEVENT
BEGIN:VTIMEZONE
TZID:America/Sao_Paulo
X-LIC-LOCATION:America/Sao_Paulo
BEGIN:DAYLIGHT
DTSTART;VALUE=DATE-TIME:20241020T010000
TZNAME:BRST
TZOFFSETFROM:-0300
TZOFFSETTO:-0200
END:DAYLIGHT
END:VTIMEZONE
END:VCALENDAR
