BEGIN:VCALENDAR
VERSION:2.0
PRODID:-//Plone.org//NONSGML plone.app.event//EN
X-WR-TIMEZONE:America/Sao_Paulo
BEGIN:VEVENT
SUMMARY:Homenagem Magda Soares em [ Outros espacos]
DTSTART;TZID=America/Sao_Paulo;VALUE=DATE-TIME:20230327T180000
DTEND;TZID=America/Sao_Paulo;VALUE=DATE-TIME:20230327T200000
DTSTAMP;VALUE=DATE-TIME:20260421T163251Z
UID:31fd099682134714ada2bdb4f977e62b@150.164.76.86:8080
CREATED;VALUE=DATE-TIME:20230315T134657Z
DESCRIPTION:<p>Atendimento NAV</p>
LAST-MODIFIED;VALUE=DATE-TIME:20230315T134706Z
URL:http://150.164.76.86:8080/cac/agenda/17957780803042712330
END:VEVENT
BEGIN:VTIMEZONE
TZID:America/Sao_Paulo
X-LIC-LOCATION:America/Sao_Paulo
BEGIN:STANDARD
DTSTART;VALUE=DATE-TIME:20230225T230000
TZNAME:BRT
TZOFFSETFROM:-0200
TZOFFSETTO:-0300
END:STANDARD
END:VTIMEZONE
END:VCALENDAR
