BEGIN:VCALENDAR
VERSION:2.0
PRODID:-//Plone.org//NONSGML plone.app.event//EN
X-WR-TIMEZONE:America/Sao_Paulo
BEGIN:VEVENT
SUMMARY:3º Seminário de Práticas Musicais Criativas e Engajamento Socia
 l em [ Auditório B101/102 do CAD 3]
DTSTART;TZID=America/Sao_Paulo;VALUE=DATE-TIME:20241111T080000
DTEND;TZID=America/Sao_Paulo;VALUE=DATE-TIME:20241114T213000
DTSTAMP;VALUE=DATE-TIME:20260419T175757Z
UID:a52f0cebdc3444c1a95c63ce3943a36e@150.164.76.86:8080
CREATED;VALUE=DATE-TIME:20240802T135115Z
DESCRIPTION:<p>O 3º Seminário de Práticas Musicais Criativas e Engajame
 nto Social é uma proposta de ação do Projeto Conectar\, que tem como pr
 incipal objetivo gerar um ambiente de troca de experiências e compartilha
 mento de habilidades criativas entre artistas de expressão da cidade de B
 elo Horizonte\, músicos e arte educadores a fim de pensar em estratégias
  pedagógicas inovadoras para o ensino de música. Com essa ação\, o Pro
 jeto Conectar busca ir ao encontro da sua missão de contribuir com a reno
 vação dos modos de ensino de música que sejam centrados no ser humano e
  em sua criatividade\, de forma horizontal\, diversa\, dialógica e susten
 tável. Em um país cultural e socialmente diverso como o Brasil\, ainda 
 é possível notar uma predominância de estratégias pedagógico musicais
  pautadas pelos modos eurocêntricos\, pela mera transferência de conheci
 mentos\, pelo tecnicismo e por metodologias predeterminadas. Assim\, esse 
 cenário desconsidera o espírito criativo brasileiro que é traduzido pel
 a sua riqueza musical\, de modo que é urgente pensar em ações que não 
 apenas ressaltem essa característica\, mas que estimulem também a repres
 entatividade e protagonismo das minorias\, o desenvolvimento da autonomia 
 e identidade dos indivíduos e suas comunidades\, o desenvolvimento de hab
 ilidades musicais e humanas\, bem como a formação de novas lideranças c
 ulturais e artísticas locais. Em seu trabalho\, o Projeto Conectar se bas
 eia na Aprendizagem Musical Criativa e Colaborativa\, que incorpora em sua
 s práticas a valorização da aprendizagem informal e não formal\, a vis
 ão humanista de educação\, a reflexão e pensamento crítico\, bem como
  o diálogo interartes. Para que essa inovação pedagógica se concretize
 \, é necessário que haja prática e pesquisa\, e essa proposta constitui
  uma ação direta nesse sentido. É proposto aqui a realização do 3º S
 eminário de Práticas Musicais Criativas e Engajamento Social . O Projeto
  Conectar já realizou duas edições desse evento em 2023\, tendo alcanç
 ado bons resultados na formação de educadores de música e no impacto em
  suas práticas pedagógicas. Buscando aprofundar esse trabalho\, pretende
 -se tornar esse evento mais robusto para o ano de 2024\, com convidados es
 pecialistas e articulações intensas com instituições de ensino de cunh
 o social e com escolas básicas. Equipamentos necessários: - Ponto de ene
 rgia Programação do evento: Segunda\, 25/11\, 09h00 às 12h30: Sessão d
 e produção musical criativa Segunda\, 25/11\, 13h30 às 16h00: Roda de c
 onversa 1 - Tema: "Como nós aprendemos nos dias de hoje?" Segunda\, 25/11
 \, 18h00 às 20h00: Abertura do evento Terça\, 26/11\, 09h00 às 12h30: S
 essão de produção musical criativa Terça\, 26/11\, 13h30 às 17h00: Wo
 rkshop de Aprendizagem Criativa e Colaborativa Quarta\, 27/11\, 09h00 às 
 17h30: Workshop de Aprendizagem Criativa e Colaborativa Quarta\, 27/11\, 1
 8h30 às 21h00: Encerramento e roda de conversa 2 - Tema: "Desafios para a
  implementação da Aprendizagem Musical Criativa" OBS: o projeto já cont
 a com técnicos de som e audiovisual.</p>
LAST-MODIFIED;VALUE=DATE-TIME:20240813T143541Z
URL:http://150.164.76.86:8080/cac/agenda/17951444520166839463
END:VEVENT
BEGIN:VTIMEZONE
TZID:America/Sao_Paulo
X-LIC-LOCATION:America/Sao_Paulo
BEGIN:DAYLIGHT
DTSTART;VALUE=DATE-TIME:20241020T010000
TZNAME:BRST
TZOFFSETFROM:-0300
TZOFFSETTO:-0200
END:DAYLIGHT
END:VTIMEZONE
END:VCALENDAR
