BEGIN:VCALENDAR
VERSION:2.0
PRODID:-//Plone.org//NONSGML plone.app.event//EN
X-WR-TIMEZONE:America/Sao_Paulo
BEGIN:VEVENT
SUMMARY:Cerimonia de Certificação do Ensino Fundamental - Formatura dos 
 alunos do 9º ano do Centro Pedagógico /CP - 2023 em [ Auditorio A102 do 
 Cad 2]
DTSTART;TZID=America/Sao_Paulo;VALUE=DATE-TIME:20231215T170000
DTEND;TZID=America/Sao_Paulo;VALUE=DATE-TIME:20231215T220000
DTSTAMP;VALUE=DATE-TIME:20260420T114742Z
UID:77975672c46d42c9bae42c959ea951d5@150.164.76.86:8080
CREATED;VALUE=DATE-TIME:20231127T153116Z
DESCRIPTION:<p>Cerimonia de Certificação do Ensino Fundamental - Formatu
 ra dos alunos do 9º ano do Centro Pedagógico /CP - 2023. Programação: 
 17:00 a 18:00 - organização do espaço do auditório 18:30 - Chegada dos
  alunos formandos\, das autoridades e homenageados 19:00 - Início da Sole
 nidade - Abertura e composição da Mesa de Honra 19:10 - Entrada dos alun
 os formandos no auditório 19:20 - Hino Nacional 19:25 - Início da entreg
 a dos Certificados 20:15 - Início dos Discursos 21:25 - Exibição do Cli
 p dos Formandos 22:00 - Encerramento da Solenidade - Cumprimento dos aluno
 s no saguão do CAD2 22:30 - Encerramento de toda a atividade no auditóri
 o. Equipamentos necessários: Microfone de mão sem fio 2 (para a Mesa)\, 
 Microfone de mão sem fio 1 (para o parlatório/púpito)\, 1 parlatório/p
 úlpito para os discursos. 1 Notebook para transmissão do Clip e músicas
  (caso não tenha cabine de transmissão). Projetor multimídia VGA\, Tela
  de projeção 218 polegadas\, Sistema de som com caixas frontais. O opera
 dor da mesa de audiovisual e transmissão durante a solenidade\, poderá s
 er o servidor o Sr. John Anderson Gabrich Machado - servidor TAE do Centro
  Pedagógico\, Chefe Imediato do Setor de Informática e Recursos Tecnoló
 gicos (SIRT) do CP - cpsirt@gmail.com Responsável pelo Evento: Raquel A D
 ias\, servidora TAE do Cenex/CP - Contato adicional: queldiasrp@gmail.com<
 /p>
LAST-MODIFIED;VALUE=DATE-TIME:20231130T153321Z
URL:http://150.164.76.86:8080/cac/agenda/17928108383798520522
END:VEVENT
BEGIN:VTIMEZONE
TZID:America/Sao_Paulo
X-LIC-LOCATION:America/Sao_Paulo
BEGIN:DAYLIGHT
DTSTART;VALUE=DATE-TIME:20231015T010000
TZNAME:BRST
TZOFFSETFROM:-0300
TZOFFSETTO:-0200
END:DAYLIGHT
END:VTIMEZONE
END:VCALENDAR
