BEGIN:VCALENDAR
VERSION:2.0
PRODID:-//Plone.org//NONSGML plone.app.event//EN
X-WR-TIMEZONE:America/Sao_Paulo
BEGIN:VEVENT
SUMMARY:Agenda do presidente da Finep\, Celso Pansera em [ Outros espacos]
DTSTART;TZID=America/Sao_Paulo;VALUE=DATE-TIME:20230824T090000
DTEND;TZID=America/Sao_Paulo;VALUE=DATE-TIME:20230824T103000
DTSTAMP;VALUE=DATE-TIME:20260421T091009Z
UID:74e582abd128451d8ba4784030f1a0da@150.164.76.86:8080
CREATED;VALUE=DATE-TIME:20230814T192035Z
DESCRIPTION:<p><span style="text-align: left\; text-decoration-thickness: 
 initial\; text-decoration-style: initial\; text-decoration-color: initial\
 ; float: none\; ">Agenda do presidente da Finep\, Celso Pansera</span></p>
LAST-MODIFIED;VALUE=DATE-TIME:20230814T192458Z
URL:http://150.164.76.86:8080/cac/agenda/17913541237300676056
END:VEVENT
BEGIN:VTIMEZONE
TZID:America/Sao_Paulo
X-LIC-LOCATION:America/Sao_Paulo
BEGIN:STANDARD
DTSTART;VALUE=DATE-TIME:20230225T230000
TZNAME:BRT
TZOFFSETFROM:-0200
TZOFFSETTO:-0300
END:STANDARD
END:VTIMEZONE
END:VCALENDAR
