BEGIN:VCALENDAR
VERSION:2.0
PRODID:-//Plone.org//NONSGML plone.app.event//EN
X-WR-TIMEZONE:America/Sao_Paulo
BEGIN:VEVENT
SUMMARY:Pré-reserva Apresentação dos Programas e Eventos da DRI/UFMG em
  [ Auditorio A104 do Cad 2]
DTSTART;TZID=America/Sao_Paulo;VALUE=DATE-TIME:20250324T120000
DTEND;TZID=America/Sao_Paulo;VALUE=DATE-TIME:20250328T200000
DTSTAMP;VALUE=DATE-TIME:20260419T120246Z
UID:ad28d566e6f24273bced7357eea205ad@150.164.76.86:8080
CREATED;VALUE=DATE-TIME:20250225T193721Z
DESCRIPTION:<p class=" " id="parent-fieldname-title">Apresentação dos Pr
 ogramas e Eventos da DRI/UFMG\, aguardando definir data e horário</p>
LAST-MODIFIED;VALUE=DATE-TIME:20250324T150427Z
URL:http://150.164.76.86:8080/cac/agenda/17888264534817540562
END:VEVENT
BEGIN:VTIMEZONE
TZID:America/Sao_Paulo
X-LIC-LOCATION:America/Sao_Paulo
BEGIN:STANDARD
DTSTART;VALUE=DATE-TIME:20250215T230000
TZNAME:BRT
TZOFFSETFROM:-0200
TZOFFSETTO:-0300
END:STANDARD
END:VTIMEZONE
END:VCALENDAR
