BEGIN:VCALENDAR
VERSION:2.0
PRODID:-//Plone.org//NONSGML plone.app.event//EN
X-WR-TIMEZONE:America/Sao_Paulo
BEGIN:VEVENT
SUMMARY:Transmissão apuração das consultas centralizadas 2024 em [ Outr
 os espacos]
DTSTART;TZID=America/Sao_Paulo;VALUE=DATE-TIME:20240628T170000
DTEND;TZID=America/Sao_Paulo;VALUE=DATE-TIME:20240628T172000
DTSTAMP;VALUE=DATE-TIME:20260420T012638Z
UID:8216080258e845be8940efed9084abfe@150.164.76.86:8080
CREATED;VALUE=DATE-TIME:20240620T165105Z
DESCRIPTION:<p>Transmissão da apuração das consultas centralizadas\, pa
 ra recomposição dos órgãos colegiados da Administração Central. Em t
 ela\, Cássia (CAC) e Alan (DTI). Compartilhamento de tela do sistema de c
 onsultas on line da UFMG.</p>
LAST-MODIFIED;VALUE=DATE-TIME:20240620T165115Z
URL:http://150.164.76.86:8080/cac/agenda/17884567145735334257
END:VEVENT
BEGIN:VTIMEZONE
TZID:America/Sao_Paulo
X-LIC-LOCATION:America/Sao_Paulo
BEGIN:STANDARD
DTSTART;VALUE=DATE-TIME:20240217T230000
TZNAME:BRT
TZOFFSETFROM:-0200
TZOFFSETTO:-0300
END:STANDARD
END:VTIMEZONE
END:VCALENDAR
