BEGIN:VCALENDAR
VERSION:2.0
PRODID:-//Plone.org//NONSGML plone.app.event//EN
X-WR-TIMEZONE:America/Sao_Paulo
BEGIN:VEVENT
SUMMARY:Lançamento do Mapeamento Cultural da UFMG com a Reitora em [ Audi
 torio da Reitoria]
DTSTART;TZID=America/Sao_Paulo;VALUE=DATE-TIME:20220531T140000
DTEND;TZID=America/Sao_Paulo;VALUE=DATE-TIME:20220531T170000
DTSTAMP;VALUE=DATE-TIME:20260422T081605Z
UID:fe6d4d2fed994f1f963ccb600b9bc5fb@150.164.76.86:8080
CREATED;VALUE=DATE-TIME:20220407T162153Z
DESCRIPTION:<div>Transmissão ao vivo no canal da CAC com retransmissão p
 ara o da DAC</div>
LAST-MODIFIED;VALUE=DATE-TIME:20220527T201322Z
URL:http://150.164.76.86:8080/cac/agenda/17881623330977563479
END:VEVENT
BEGIN:VTIMEZONE
TZID:America/Sao_Paulo
X-LIC-LOCATION:America/Sao_Paulo
BEGIN:STANDARD
DTSTART;VALUE=DATE-TIME:20220219T230000
TZNAME:BRT
TZOFFSETFROM:-0200
TZOFFSETTO:-0300
END:STANDARD
END:VTIMEZONE
END:VCALENDAR
