BEGIN:VCALENDAR
VERSION:2.0
PRODID:-//Plone.org//NONSGML plone.app.event//EN
X-WR-TIMEZONE:America/Sao_Paulo
BEGIN:VEVENT
SUMMARY:BANCAS DE HETEROIDENTIFICAÇÃO em [ Auditório B101/102 do CAD 3 
 Auditório B106 do CAD3 - s/ ar condic Auditório B107 do CAD3]
DTSTART;TZID=America/Sao_Paulo;VALUE=DATE-TIME:20240415T070000
DTEND;TZID=America/Sao_Paulo;VALUE=DATE-TIME:20240419T180000
DTSTAMP;VALUE=DATE-TIME:20260420T044633Z
UID:1f4fce0f282d4f54b965074d5c581023@150.164.76.86:8080
CREATED;VALUE=DATE-TIME:20231218T172629Z
DESCRIPTION:<p><span>Bancas de Heteroidentificação para reserva de vagas
  racial nos processos seletivos dos cursos ofertados pela UFMG</span></p>
LAST-MODIFIED;VALUE=DATE-TIME:20231218T173512Z
URL:http://150.164.76.86:8080/cac/agenda/17870438248183810159
END:VEVENT
BEGIN:VTIMEZONE
TZID:America/Sao_Paulo
X-LIC-LOCATION:America/Sao_Paulo
BEGIN:STANDARD
DTSTART;VALUE=DATE-TIME:20240217T230000
TZNAME:BRT
TZOFFSETFROM:-0200
TZOFFSETTO:-0300
END:STANDARD
END:VTIMEZONE
END:VCALENDAR
