BEGIN:VCALENDAR
VERSION:2.0
PRODID:-//Plone.org//NONSGML plone.app.event//EN
X-WR-TIMEZONE:America/Sao_Paulo
BEGIN:VEVENT
SUMMARY:CAPACIDADE EXCEDIDA em [ Saguao da Reitoria Auditorio da Reitoria 
 Gramado da Reitoria Entorno da Praca de Servicos Auditorio Nobre do CAD 1 
 Auditorio 1A do CAD 1 Auditorio 2A do CAD 1 Arena da praça de serviços A
 uditório B101/102 do CAD 3 Auditório B301 do CAD 3]
DTSTART;TZID=America/Sao_Paulo;VALUE=DATE-TIME:20200630T070000
DTEND;TZID=America/Sao_Paulo;VALUE=DATE-TIME:20200630T170000
DTSTAMP;VALUE=DATE-TIME:20260424T212625Z
UID:1774941d4d2644e0afd42de3f0750e70@150.164.76.86:8080
CREATED;VALUE=DATE-TIME:20200206T112840Z
DESCRIPTION:<p>.</p>
LAST-MODIFIED;VALUE=DATE-TIME:20230111T201047Z
URL:http://150.164.76.86:8080/cac/agenda/17864883821239892201
END:VEVENT
BEGIN:VTIMEZONE
TZID:America/Sao_Paulo
X-LIC-LOCATION:America/Sao_Paulo
BEGIN:STANDARD
DTSTART;VALUE=DATE-TIME:20200215T230000
TZNAME:BRT
TZOFFSETFROM:-0200
TZOFFSETTO:-0300
END:STANDARD
END:VTIMEZONE
END:VCALENDAR
