BEGIN:VCALENDAR
VERSION:2.0
PRODID:-//Plone.org//NONSGML plone.app.event//EN
X-WR-TIMEZONE:America/Sao_Paulo
BEGIN:VEVENT
SUMMARY:Recepção INOVALAB em [ Auditorio A102 do Cad 2]
DTSTART;TZID=America/Sao_Paulo;VALUE=DATE-TIME:20240219T070000
DTEND;TZID=America/Sao_Paulo;VALUE=DATE-TIME:20240219T190000
DTSTAMP;VALUE=DATE-TIME:20260420T080616Z
UID:e67a7e43b7aa451daa7ffc73a1c61eb1@150.164.76.86:8080
CREATED;VALUE=DATE-TIME:20240115T174117Z
DESCRIPTION:Evento presencial para recepção dos incubados do InovaLab. \
 n\nSegue abaixo as informações complementares ref. o evento 19/2/24 (man
 hã e tarde) CAD2 Aud. A102:\n\na) Programação:\n\n08:00 - Recepção e 
 credenciamento\n08:30 - ABERTURA\n09:00 - PAINEL 1 - PARCEIROS INOVALAB\n1
 0:30 - COFFEE BREAK\n11:00 - PAINEL 2 - PALESTRA MAGNA\n12:00 - INTERVALO\
 n14:00 - PAINEL 3 - PARCEIROS INSTITUCIONAIS\n15:30 - COFEE BREAK\n17:00 -
  FECHAMENTO\n\n2 - 01 microfone com fio abaixo do palco para perguntas no 
 pedestal + 02 (dois) microfones em cima da mesa (um com fio e 01 girafa)\n
 \n3 - Notebook próprio com pen drive \n\n4 - Quantidade de pessoas na mes
 a palco: \n Painel 1: 4 pessoas | Painéis 2 e 3: 6 pessoas \n\n5 - Toalha
  de mesa preta (mesa palco)\n\n6 - Duas mesas grandes (madeira preferencia
 lmente) + toalhas (branca ou preta) e duas cadeiras na porta do AUD. A102 
 para credenciamento\n\n7 - Wifi  (termo a assinar)\n\n8 - Cofee-break com 
 buffet será servido no hall de entrada (em frente ao AUD. A102).  Agendam
 ento prévio com equipe buffet (em cotação) para fazer uma visita ao loc
 al. \n\n9- Um técnico TI ou Técnico em Audiovisual (a/c CAC)\n\n10- 02 S
 uporte para banner-lona (01 na área de credenciamento e 01 no palco)\n\n1
 1- Um passador de slide (desejável se tiver disponível)\n\n12- Uma tela 
 de projeção \n\n13- Lixeiras área de coffee-break\n\n14- Desejável cli
 matização (ar condicionado ligado) no auditório por todo o período do 
 evento.
LAST-MODIFIED;VALUE=DATE-TIME:20240116T134446Z
URL:http://150.164.76.86:8080/cac/agenda/17855197406831084264
END:VEVENT
BEGIN:VTIMEZONE
TZID:America/Sao_Paulo
X-LIC-LOCATION:America/Sao_Paulo
BEGIN:STANDARD
DTSTART;VALUE=DATE-TIME:20240217T230000
TZNAME:BRT
TZOFFSETFROM:-0200
TZOFFSETTO:-0300
END:STANDARD
END:VTIMEZONE
END:VCALENDAR
