BEGIN:VCALENDAR
VERSION:2.0
PRODID:-//Plone.org//NONSGML plone.app.event//EN
X-WR-TIMEZONE:America/Sao_Paulo
BEGIN:VEVENT
SUMMARY:LAVAGEM DA TENDA em [ Arena da praça de serviços]
DTSTART;TZID=America/Sao_Paulo;VALUE=DATE-TIME:20250210T060000
DTEND;TZID=America/Sao_Paulo;VALUE=DATE-TIME:20250228T220000
DTSTAMP;VALUE=DATE-TIME:20260419T143407Z
UID:90650ea269b94423a96a542f585409c0@150.164.76.86:8080
CREATED;VALUE=DATE-TIME:20241031T192349Z
DESCRIPTION:<p>MANUTENÇÃO DA TENDA</p>
LAST-MODIFIED;VALUE=DATE-TIME:20241031T192410Z
URL:http://150.164.76.86:8080/cac/agenda/1784060212293313455
END:VEVENT
BEGIN:VTIMEZONE
TZID:America/Sao_Paulo
X-LIC-LOCATION:America/Sao_Paulo
BEGIN:DAYLIGHT
DTSTART;VALUE=DATE-TIME:20241020T010000
TZNAME:BRST
TZOFFSETFROM:-0300
TZOFFSETTO:-0200
END:DAYLIGHT
BEGIN:STANDARD
DTSTART;VALUE=DATE-TIME:20250215T230000
TZNAME:BRT
TZOFFSETFROM:-0200
TZOFFSETTO:-0300
END:STANDARD
END:VTIMEZONE
END:VCALENDAR
