BEGIN:VCALENDAR
VERSION:2.0
PRODID:-//Plone.org//NONSGML plone.app.event//EN
X-WR-TIMEZONE:America/Sao_Paulo
BEGIN:VEVENT
SUMMARY:PROGRAMA INCLUIR - DANÇA FLAMENCA em [ Arena da praça de serviç
 os]
DTSTART;TZID=America/Sao_Paulo;VALUE=DATE-TIME:20250405T090000
DTEND;TZID=America/Sao_Paulo;VALUE=DATE-TIME:20250405T110000
DTSTAMP;VALUE=DATE-TIME:20260419T104220Z
UID:1ee4842044b54d63adede518f0f4f482@150.164.76.86:8080
CREATED;VALUE=DATE-TIME:20250402T182019Z
DESCRIPTION:Prezados Senhores\n\nSolicitamos a reserva da arena da praça 
 de serviços no sábado dia 05/04/2025\, entre 9h00 e 11h00\, para apresen
 tação de um grupo de dança flamenca de BH.\n\nO público alvo são pais
  e alunos de baixa renda de BH e região. São alunos do PROGRAMA INCLUIR 
 que oferece treinamento e educação inclusiva aos sábados para pessoas d
 e baixa renda.\n\nOfereceremos os equipamentos de som e percussão para qu
 e possam fazer a apresentação.\n\nSolicitamos também acesso aos banheir
 os que as integrantes do grupo de dança para trocar de roupa.\n\nCordialm
 ente\,\nProf Francisco VIdal Barbosa
LAST-MODIFIED;VALUE=DATE-TIME:20250402T184749Z
URL:http://150.164.76.86:8080/cac/agenda/17830252395455530129
END:VEVENT
BEGIN:VTIMEZONE
TZID:America/Sao_Paulo
X-LIC-LOCATION:America/Sao_Paulo
BEGIN:STANDARD
DTSTART;VALUE=DATE-TIME:20250215T230000
TZNAME:BRT
TZOFFSETFROM:-0200
TZOFFSETTO:-0300
END:STANDARD
END:VTIMEZONE
END:VCALENDAR
