BEGIN:VCALENDAR
VERSION:2.0
PRODID:-//Plone.org//NONSGML plone.app.event//EN
X-WR-TIMEZONE:America/Sao_Paulo
BEGIN:VEVENT
SUMMARY:Cátedra Agustin Lao-Montes  - Grande Conferência Enfrentamento d
 o racismo pelo Estado\, desafios e conquistas em [ Auditorio da Reitoria]
DTSTART;TZID=America/Sao_Paulo;VALUE=DATE-TIME:20240805T070000
DTEND;TZID=America/Sao_Paulo;VALUE=DATE-TIME:20240805T210000
DTSTAMP;VALUE=DATE-TIME:20260419T222951Z
UID:53462f0bb30e48d4974edd000eefa4ea@150.164.76.86:8080
CREATED;VALUE=DATE-TIME:20240719T173545Z
DESCRIPTION:<div><span><span><b>Grande Conferência Enfrentamento do racis
 mo pelo Estado\, desafios e conquistas</b></span></span></div>\n<div><span
 ><span> </span></span></div>\n<div><span><span>Data: 05 de agosto – 9h3
 0</span></span></div>\n<div><span><span>Local: Auditório da Reitoria da U
 FMG</span></span></div>\n<div><span><span> </span></span></div>\n<div><b>
 <span><span>9h30 às 11h - </span></span><span>Abertura</span></b></div>\
 n<div><span>Sandra Goulart Almeida - Reitora da UFMG</span></div>\n<div><s
 pan>Francia Márquez - Vice-Presidente da Colômbia e Ministra da Igualdad
 e e Equidade (participação remota)</span></div>\n<div><span>Anielle Fran
 co – Ministra da Igualdade Racial (participação remota)</span></div>\n
 <div></div>\n<div><span><span><b>11h às 12h - Grande conferência</b></sp
 an></span></div>\n<div><span><span>Agustin Lao-Montes - Universidade de Ma
 ssachusetts Amherst</span></span></div>\n<div><span>Mediação: Marlise Ma
 tos - Departamento de Ciência Política da UFMG</span></div>\n<div><span>
 <span> </span></span></div>\n<div><span><b>12h às 12h30 - Debate</b></sp
 an></div>\n<div><span><span> </span></span></div>
LAST-MODIFIED;VALUE=DATE-TIME:20240722T153731Z
URL:http://150.164.76.86:8080/cac/agenda/17813705546294188815
END:VEVENT
BEGIN:VTIMEZONE
TZID:America/Sao_Paulo
X-LIC-LOCATION:America/Sao_Paulo
BEGIN:STANDARD
DTSTART;VALUE=DATE-TIME:20240217T230000
TZNAME:BRT
TZOFFSETFROM:-0200
TZOFFSETTO:-0300
END:STANDARD
END:VTIMEZONE
END:VCALENDAR
