BEGIN:VCALENDAR
VERSION:2.0
PRODID:-//Plone.org//NONSGML plone.app.event//EN
X-WR-TIMEZONE:America/Sao_Paulo
BEGIN:VEVENT
SUMMARY:II Ciclo de Debates Comfic/Collicen em [ Outros espacos]
DTSTART;TZID=America/Sao_Paulo;VALUE=DATE-TIME:20240809T140000
DTEND;TZID=America/Sao_Paulo;VALUE=DATE-TIME:20240809T163000
DTSTAMP;VALUE=DATE-TIME:20260419T222746Z
UID:e04a508285d84c81bbbcb1b11baf4ebd@150.164.76.86:8080
CREATED;VALUE=DATE-TIME:20240705T162836Z
DESCRIPTION:<p>Apoio áudio visual\, microfone de mesa\, microfone avulso 
 para público\, transmissão via YouTube.</p>
LAST-MODIFIED;VALUE=DATE-TIME:20240717T183351Z
URL:http://150.164.76.86:8080/cac/agenda/1780351128619848166
END:VEVENT
BEGIN:VTIMEZONE
TZID:America/Sao_Paulo
X-LIC-LOCATION:America/Sao_Paulo
BEGIN:STANDARD
DTSTART;VALUE=DATE-TIME:20240217T230000
TZNAME:BRT
TZOFFSETFROM:-0200
TZOFFSETTO:-0300
END:STANDARD
END:VTIMEZONE
END:VCALENDAR
