BEGIN:VCALENDAR
VERSION:2.0
PRODID:-//Plone.org//NONSGML plone.app.event//EN
X-WR-TIMEZONE:America/Sao_Paulo
BEGIN:VEVENT
SUMMARY:Reunião Conselho Universitário em [ Outros espacos]
DTSTART;TZID=America/Sao_Paulo;VALUE=DATE-TIME:20230831T140000
DTEND;TZID=America/Sao_Paulo;VALUE=DATE-TIME:20230831T180000
DTSTAMP;VALUE=DATE-TIME:20260421T091325Z
UID:1cef34d855e642458c5a850d6acb83ec@150.164.76.86:8080
CREATED;VALUE=DATE-TIME:20230825T143911Z
DESCRIPTION:<p>Gravar áudio da reunião.</p>
LAST-MODIFIED;VALUE=DATE-TIME:20230825T143925Z
URL:http://150.164.76.86:8080/cac/agenda/17799237012206167245
END:VEVENT
BEGIN:VTIMEZONE
TZID:America/Sao_Paulo
X-LIC-LOCATION:America/Sao_Paulo
BEGIN:STANDARD
DTSTART;VALUE=DATE-TIME:20230225T230000
TZNAME:BRT
TZOFFSETFROM:-0200
TZOFFSETTO:-0300
END:STANDARD
END:VTIMEZONE
END:VCALENDAR
