BEGIN:VCALENDAR
VERSION:2.0
PRODID:-//Plone.org//NONSGML plone.app.event//EN
X-WR-TIMEZONE:America/Sao_Paulo
BEGIN:VEVENT
SUMMARY:Bloqueio CAC em [ Auditorio da Reitoria Saguao da Reitoria Gramado
  da Reitoria Auditorio Nobre do CAD 1 Auditorio 1A do CAD 1 Auditorio 2A d
 o CAD 1 Auditorio A102 do Cad 2 Auditorio A104 do Cad 2 Auditório B301 do
  CAD 3 Auditório B302 do CAD 3]
DTSTART;TZID=America/Sao_Paulo;VALUE=DATE-TIME:20230531T060000
DTEND;TZID=America/Sao_Paulo;VALUE=DATE-TIME:20230531T220000
DTSTAMP;VALUE=DATE-TIME:20260421T150024Z
UID:7b8c985353284a779a9af3758bb58809@150.164.76.86:8080
CREATED;VALUE=DATE-TIME:20230425T141518Z
DESCRIPTION:<p>bloqueio</p>
LAST-MODIFIED;VALUE=DATE-TIME:20230425T141536Z
URL:http://150.164.76.86:8080/cac/agenda/17796288900307041660
END:VEVENT
BEGIN:VTIMEZONE
TZID:America/Sao_Paulo
X-LIC-LOCATION:America/Sao_Paulo
BEGIN:STANDARD
DTSTART;VALUE=DATE-TIME:20230225T230000
TZNAME:BRT
TZOFFSETFROM:-0200
TZOFFSETTO:-0300
END:STANDARD
END:VTIMEZONE
END:VCALENDAR
