BEGIN:VCALENDAR
VERSION:2.0
PRODID:-//Plone.org//NONSGML plone.app.event//EN
X-WR-TIMEZONE:America/Sao_Paulo
BEGIN:VEVENT
SUMMARY:EXAME CELPE-BRAS em [ Auditorio A102 do Cad 2]
DTSTART;TZID=America/Sao_Paulo;VALUE=DATE-TIME:20250311T080000
DTEND;TZID=America/Sao_Paulo;VALUE=DATE-TIME:20250311T130000
DTSTAMP;VALUE=DATE-TIME:20260419T120344Z
UID:0fe892c62b9a48dfa6e4ff45eada3e2c@150.164.76.86:8080
CREATED;VALUE=DATE-TIME:20241216T190216Z
DESCRIPTION:Aplicação da prova escrita do exame Celpe-bras.\nEquipamento
 s necessários:\nNotebook\;\nprojetor\;\nmicrofone\;\nRecepção dos candi
 datos às 08hs e início d aprova às 09hs e término entre 12hs e 13hs.
LAST-MODIFIED;VALUE=DATE-TIME:20241217T143033Z
URL:http://150.164.76.86:8080/cac/agenda/17790012984579047056
END:VEVENT
BEGIN:VTIMEZONE
TZID:America/Sao_Paulo
X-LIC-LOCATION:America/Sao_Paulo
BEGIN:STANDARD
DTSTART;VALUE=DATE-TIME:20250215T230000
TZNAME:BRT
TZOFFSETFROM:-0200
TZOFFSETTO:-0300
END:STANDARD
END:VTIMEZONE
END:VCALENDAR
