BEGIN:VCALENDAR
VERSION:2.0
PRODID:-//Plone.org//NONSGML plone.app.event//EN
X-WR-TIMEZONE:America/Sao_Paulo
BEGIN:VEVENT
SUMMARY:BANCAS DE HETEROIDENTIFICAÇÃO em [ Outros espacos]
DTSTART;TZID=America/Sao_Paulo;VALUE=DATE-TIME:20230725T070000
DTEND;TZID=America/Sao_Paulo;VALUE=DATE-TIME:20230725T180000
DTSTAMP;VALUE=DATE-TIME:20260421T104229Z
UID:69cb860c0e4f4e6b9d02056d879ee18c@150.164.76.86:8080
CREATED;VALUE=DATE-TIME:20230216T181440Z
DESCRIPTION:<p><span><span><span><span><span><span><span>Registro Acadêmi
 co Presencial - Bancas de Heteroidentificação</span></span></span></span
 ></span></span></span></p>
LAST-MODIFIED;VALUE=DATE-TIME:20230217T121344Z
URL:http://150.164.76.86:8080/cac/agenda/17780634729805473361
END:VEVENT
BEGIN:VTIMEZONE
TZID:America/Sao_Paulo
X-LIC-LOCATION:America/Sao_Paulo
BEGIN:STANDARD
DTSTART;VALUE=DATE-TIME:20230225T230000
TZNAME:BRT
TZOFFSETFROM:-0200
TZOFFSETTO:-0300
END:STANDARD
END:VTIMEZONE
END:VCALENDAR
