BEGIN:VCALENDAR
VERSION:2.0
PRODID:-//Plone.org//NONSGML plone.app.event//EN
X-WR-TIMEZONE:America/Sao_Paulo
BEGIN:VEVENT
SUMMARY:Reunião com Coordenadores de Cursos de Graduação  e chefes de D
 epartamento em [ Auditorio da Reitoria]
DTSTART;TZID=America/Sao_Paulo;VALUE=DATE-TIME:20241206T140000
DTEND;TZID=America/Sao_Paulo;VALUE=DATE-TIME:20241206T163000
DTSTAMP;VALUE=DATE-TIME:20260419T163858Z
UID:289d99d2fd0d49498501ee393d6c5bc1@150.164.76.86:8080
CREATED;VALUE=DATE-TIME:20241119T180324Z
DESCRIPTION:<p>Microfone de mesa\, microfone avulso com pedestal\, projeç
 ão e transmissão para ICA via canal YouTube CAC.</p>
LAST-MODIFIED;VALUE=DATE-TIME:20241122T145355Z
URL:http://150.164.76.86:8080/cac/agenda/17776140281588495835
END:VEVENT
BEGIN:VTIMEZONE
TZID:America/Sao_Paulo
X-LIC-LOCATION:America/Sao_Paulo
BEGIN:DAYLIGHT
DTSTART;VALUE=DATE-TIME:20241020T010000
TZNAME:BRST
TZOFFSETFROM:-0300
TZOFFSETTO:-0200
END:DAYLIGHT
END:VTIMEZONE
END:VCALENDAR
