BEGIN:VCALENDAR
VERSION:2.0
PRODID:-//Plone.org//NONSGML plone.app.event//EN
X-WR-TIMEZONE:America/Sao_Paulo
BEGIN:VEVENT
SUMMARY:5º Escola de Verão - Educação para os direitos humanos em [ Au
 ditorio A104 do Cad 2]
DTSTART;TZID=America/Sao_Paulo;VALUE=DATE-TIME:20250224T070000
DTEND;TZID=America/Sao_Paulo;VALUE=DATE-TIME:20250228T200000
DTSTAMP;VALUE=DATE-TIME:20260419T132235Z
UID:49c18d3d998d43c6a109c423549bf094@150.164.76.86:8080
CREATED;VALUE=DATE-TIME:20241107T174712Z
DESCRIPTION:<p>Quinta Edição da Escola de Verão: Educação em Direitos
  Humanos promovido pela Cátedra Aberta de Direitos Humanos da Associaçã
 o de Universidades Grupo Montevidéu (AUGM) em parceria com a Pró-Reitori
 a de Extensão e Diretoria de Relações Internacionais. Serão 5 dias de 
 atividades\, com aulas nos turnos da manhã e tarde. Os equipamentos neces
 sários são microfone e uma equipe técnica para gravação das aulas.</p
 >
LAST-MODIFIED;VALUE=DATE-TIME:20241107T181827Z
URL:http://150.164.76.86:8080/cac/agenda/17772809806542115502
END:VEVENT
BEGIN:VTIMEZONE
TZID:America/Sao_Paulo
X-LIC-LOCATION:America/Sao_Paulo
BEGIN:STANDARD
DTSTART;VALUE=DATE-TIME:20250215T230000
TZNAME:BRT
TZOFFSETFROM:-0200
TZOFFSETTO:-0300
END:STANDARD
END:VTIMEZONE
END:VCALENDAR
