BEGIN:VCALENDAR
VERSION:2.0
PRODID:-//Plone.org//NONSGML plone.app.event//EN
X-WR-TIMEZONE:America/Sao_Paulo
BEGIN:VEVENT
SUMMARY:Feira da UFMG em [ Em torno da Praca de Servicos]
DTSTART;TZID=America/Sao_Paulo;VALUE=DATE-TIME:20220921T070000
DTEND;TZID=America/Sao_Paulo;VALUE=DATE-TIME:20220921T080000
DTSTAMP;VALUE=DATE-TIME:20260422T012616Z
UID:227a0b2d877d4214ae7d7b32133e5c28@150.164.76.86:8080
CREATED;VALUE=DATE-TIME:20220705T201958Z
DESCRIPTION:Não será necessário nenhum equipamento ou serviço.
LAST-MODIFIED;VALUE=DATE-TIME:20220706T142904Z
URL:http://150.164.76.86:8080/cac/agenda/17766997417426972209
END:VEVENT
BEGIN:VTIMEZONE
TZID:America/Sao_Paulo
X-LIC-LOCATION:America/Sao_Paulo
BEGIN:STANDARD
DTSTART;VALUE=DATE-TIME:20220219T230000
TZNAME:BRT
TZOFFSETFROM:-0200
TZOFFSETTO:-0300
END:STANDARD
END:VTIMEZONE
END:VCALENDAR
