BEGIN:VCALENDAR
VERSION:2.0
PRODID:-//Plone.org//NONSGML plone.app.event//EN
X-WR-TIMEZONE:America/Sao_Paulo
BEGIN:VEVENT
SUMMARY:Encontro Regional de Gestores do SIASS MG em [ Auditorio da Reitor
 ia]
DTSTART;TZID=America/Sao_Paulo;VALUE=DATE-TIME:20250409T080000
DTEND;TZID=America/Sao_Paulo;VALUE=DATE-TIME:20250410T170000
DTSTAMP;VALUE=DATE-TIME:20260419T104341Z
UID:1451789b5d4c435188609d4c0381b65e@150.164.76.86:8080
CREATED;VALUE=DATE-TIME:20250311T233142Z
DESCRIPTION:<p>Com o objetivo de fortalecer a implementação da Política
  de Atenção à Saúde e Segurança do Trabalho do Servidor Federal (PASS
 ) e de aprimorar o funcionamento do Subsistema Integrado de Atenção à S
 aúde do Servidor (SIASS)\, o encontro\, organizado pelo Ministério da Ge
 stão e da Inovação em Serviços Públicos (MGI)\, com o apoio da Pró-R
 eitoria de Recursos Humanos (PRORH) e da Unidade SIASS UFMG\, reunirá ges
 tores das Unidades SIASS e Dirigentes de Gestão de Pessoas no estado de M
 inas Gerais. O evento contará ainda com a participação da Diretoria de 
 Benefícios\, Previdência e Atenção à Saúde\, promovendo uma aproxima
 ção entre a gestão central e os representantes locais. Essa interação
  será fundamental para ampliar o diálogo e abordar os desafios enfrentad
 os na região\, além de fomentar a troca de experiências e ideias para o
  fortalecimento das ações na área.</p>
LAST-MODIFIED;VALUE=DATE-TIME:20250314T194203Z
URL:http://150.164.76.86:8080/cac/agenda/17763986912696533773
END:VEVENT
BEGIN:VTIMEZONE
TZID:America/Sao_Paulo
X-LIC-LOCATION:America/Sao_Paulo
BEGIN:STANDARD
DTSTART;VALUE=DATE-TIME:20250215T230000
TZNAME:BRT
TZOFFSETFROM:-0200
TZOFFSETTO:-0300
END:STANDARD
END:VTIMEZONE
END:VCALENDAR
