BEGIN:VCALENDAR
VERSION:2.0
PRODID:-//Plone.org//NONSGML plone.app.event//EN
X-WR-TIMEZONE:America/Sao_Paulo
BEGIN:VEVENT
SUMMARY:Ao cair da tarde em [ Arena da praça de serviços]
DTSTART;TZID=America/Sao_Paulo;VALUE=DATE-TIME:20230928T140000
DTEND;TZID=America/Sao_Paulo;VALUE=DATE-TIME:20230928T193000
DTSTAMP;VALUE=DATE-TIME:20260421T062524Z
UID:53e42db087be4362be10a139ca568556@150.164.76.86:8080
CREATED;VALUE=DATE-TIME:20221124T161745Z
DESCRIPTION:<p>Ao cair da tarde\, Equipamentos a definir. somente reserva 
 do espaço.</p>
LAST-MODIFIED;VALUE=DATE-TIME:20230703T194742Z
URL:http://150.164.76.86:8080/cac/agenda/17757012742767325132
END:VEVENT
BEGIN:VTIMEZONE
TZID:America/Sao_Paulo
X-LIC-LOCATION:America/Sao_Paulo
BEGIN:STANDARD
DTSTART;VALUE=DATE-TIME:20230225T230000
TZNAME:BRT
TZOFFSETFROM:-0200
TZOFFSETTO:-0300
END:STANDARD
END:VTIMEZONE
END:VCALENDAR
