BEGIN:VCALENDAR
VERSION:2.0
PRODID:-//Plone.org//NONSGML plone.app.event//EN
X-WR-TIMEZONE:America/Sao_Paulo
BEGIN:VEVENT
SUMMARY:Quarta doze e Trinta em [ Arena da praça de serviços Auditorio d
 a Reitoria]
DTSTART;TZID=America/Sao_Paulo;VALUE=DATE-TIME:20230920T080000
DTEND;TZID=America/Sao_Paulo;VALUE=DATE-TIME:20230920T150000
DTSTAMP;VALUE=DATE-TIME:20260421T062216Z
UID:d8bffe8c12fd4507a51a1456b5c005f0@150.164.76.86:8080
CREATED;VALUE=DATE-TIME:20221124T160945Z
DESCRIPTION:<p>Quarta doze e trinta\, Equipamentos a definir. somente rese
 rva do espaço.</p>
LAST-MODIFIED;VALUE=DATE-TIME:20230808T122851Z
URL:http://150.164.76.86:8080/cac/agenda/17756448963399602084
END:VEVENT
BEGIN:VTIMEZONE
TZID:America/Sao_Paulo
X-LIC-LOCATION:America/Sao_Paulo
BEGIN:STANDARD
DTSTART;VALUE=DATE-TIME:20230225T230000
TZNAME:BRT
TZOFFSETFROM:-0200
TZOFFSETTO:-0300
END:STANDARD
END:VTIMEZONE
END:VCALENDAR
