BEGIN:VCALENDAR
VERSION:2.0
PRODID:-//Plone.org//NONSGML plone.app.event//EN
X-WR-TIMEZONE:America/Sao_Paulo
BEGIN:VEVENT
SUMMARY:CONCURSO EXÉRCITO ESA em [ Auditorio A102 do Cad 2 Auditorio A104
  do Cad 2]
DTSTART;TZID=America/Sao_Paulo;VALUE=DATE-TIME:20240914T120000
DTEND;TZID=America/Sao_Paulo;VALUE=DATE-TIME:20240915T200000
DTSTAMP;VALUE=DATE-TIME:20260419T205702Z
UID:ff0b572b3e3d4287817ebee7050ccfb6@150.164.76.86:8080
CREATED;VALUE=DATE-TIME:20240403T150925Z
DESCRIPTION:<p>E-mail para coord@cac.ufmg.br\, em 03/04/2024:<br /><span><
 br />Prezada Cássia Monteiro\, boa tarde!<br /><br />Gentileza verificar 
 a disponibilidade dos CAD's 2 e 3 </span><span>para aplicação das provas
  do Concurso Exército ESA que acontecerá no dia </span><b><span>15 de se
 tembro de 2024</span></b><span>. </span><br /><span>Precisamos também da 
 disponibilidade dos prédios no dia anterior\, 14 de setembro\, para prepa
 ração da salas.<br /><br />Desde já\, agradeço a colaboração e impre
 scindível apoio. </span></p>
LAST-MODIFIED;VALUE=DATE-TIME:20240527T142302Z
URL:http://150.164.76.86:8080/cac/agenda/17755476429424721809
END:VEVENT
BEGIN:VTIMEZONE
TZID:America/Sao_Paulo
X-LIC-LOCATION:America/Sao_Paulo
BEGIN:STANDARD
DTSTART;VALUE=DATE-TIME:20240217T230000
TZNAME:BRT
TZOFFSETFROM:-0200
TZOFFSETTO:-0300
END:STANDARD
END:VTIMEZONE
END:VCALENDAR
