BEGIN:VCALENDAR
VERSION:2.0
PRODID:-//Plone.org//NONSGML plone.app.event//EN
X-WR-TIMEZONE:America/Sao_Paulo
BEGIN:VEVENT
SUMMARY:Mostra Sua UFMG em [ Saguao da Reitoria Entorno da Praca de Servic
 os Auditorio Nobre do CAD 1 Auditorio A102 do Cad 2 Auditorio A104 do Cad 
 2 Arena da praça de serviços Auditório B302 do CAD 3 Auditório B101/10
 2 do CAD 3 Auditório B301 do CAD 3]
DTSTART;TZID=America/Sao_Paulo;VALUE=DATE-TIME:20220131T070000
DTEND;TZID=America/Sao_Paulo;VALUE=DATE-TIME:20220204T230000
DTSTAMP;VALUE=DATE-TIME:20260422T111750Z
UID:f8764bde96e84b6283b92f196aa24f4e@150.164.76.86:8080
CREATED;VALUE=DATE-TIME:20211220T165837Z
DESCRIPTION:<p>Bloqueia-se todos os espaços físicos que a CAC gerencia e
 m razão do comprometimento de toda equipe ao evento Minha UFMG.</p>
LAST-MODIFIED;VALUE=DATE-TIME:20230111T201113Z
URL:http://150.164.76.86:8080/cac/agenda/17740213445679639158
END:VEVENT
BEGIN:VTIMEZONE
TZID:America/Sao_Paulo
X-LIC-LOCATION:America/Sao_Paulo
BEGIN:DAYLIGHT
DTSTART;VALUE=DATE-TIME:20211017T010000
TZNAME:BRST
TZOFFSETFROM:-0300
TZOFFSETTO:-0200
END:DAYLIGHT
END:VTIMEZONE
END:VCALENDAR
