BEGIN:VCALENDAR
VERSION:2.0
PRODID:-//Plone.org//NONSGML plone.app.event//EN
X-WR-TIMEZONE:America/Sao_Paulo
BEGIN:VEVENT
SUMMARY:8o Congresso Brasileiro de NeuroVisão em [ Auditorio Nobre do CAD
  1]
DTSTART;TZID=America/Sao_Paulo;VALUE=DATE-TIME:20201001T084500
DTEND;TZID=America/Sao_Paulo;VALUE=DATE-TIME:20201003T120000
DTSTAMP;VALUE=DATE-TIME:20260424T171905Z
UID:d3a4f9ef0088485bb1737c52e6c2380a@150.164.76.86:8080
CREATED;VALUE=DATE-TIME:20200219T144812Z
DESCRIPTION:Equipamentos padrões para eventos acadêmicos
LAST-MODIFIED;VALUE=DATE-TIME:20200219T145603Z
URL:http://150.164.76.86:8080/cac/agenda/17729371614111644924
END:VEVENT
BEGIN:VTIMEZONE
TZID:America/Sao_Paulo
X-LIC-LOCATION:America/Sao_Paulo
BEGIN:STANDARD
DTSTART;VALUE=DATE-TIME:20200215T230000
TZNAME:BRT
TZOFFSETFROM:-0200
TZOFFSETTO:-0300
END:STANDARD
END:VTIMEZONE
END:VCALENDAR
