BEGIN:VCALENDAR
VERSION:2.0
PRODID:-//Plone.org//NONSGML plone.app.event//EN
X-WR-TIMEZONE:America/Sao_Paulo
BEGIN:VEVENT
SUMMARY:FUNDEP X em [ Auditorio A104 do Cad 2]
DTSTART;TZID=America/Sao_Paulo;VALUE=DATE-TIME:20221207T080000
DTEND;TZID=America/Sao_Paulo;VALUE=DATE-TIME:20221207T130000
DTSTAMP;VALUE=DATE-TIME:20260421T205342Z
UID:965fdc9286ba4ebc99196fe08e807443@150.164.76.86:8080
CREATED;VALUE=DATE-TIME:20220825T144414Z
DESCRIPTION:<p>FUNDEP X O evento terá início às 08:00 com término prev
 isto para 12:00 podendo estender até 13h. Não foi construída ainda a pr
 ogramação oficial. Não haverá composição de mesa de palco\, nem ativ
 idade cultural\, em função da proposta do evento. É importante contarmo
 s com o balcão do saguão para a recepção do público e organização e
 strutural do encontro. Haverá interação entre público e palestrante\, 
 bem como a exibição de vídeos e projeção de slide. Gentileza disponib
 ilizar o passador de slides. Precisamos\, também\, de rede Wi-Fi.</p>
LAST-MODIFIED;VALUE=DATE-TIME:20221125T124749Z
URL:http://150.164.76.86:8080/cac/agenda/17727785532718719027
END:VEVENT
BEGIN:VTIMEZONE
TZID:America/Sao_Paulo
X-LIC-LOCATION:America/Sao_Paulo
BEGIN:DAYLIGHT
DTSTART;VALUE=DATE-TIME:20221016T010000
TZNAME:BRST
TZOFFSETFROM:-0300
TZOFFSETTO:-0200
END:DAYLIGHT
END:VTIMEZONE
END:VCALENDAR
