BEGIN:VCALENDAR
VERSION:2.0
PRODID:-//Plone.org//NONSGML plone.app.event//EN
X-WR-TIMEZONE:America/Sao_Paulo
BEGIN:VEVENT
SUMMARY:Gênero\, sexualidades e transexualidades: direitos sexuais e repr
 odutivos de adolescentes em unidades socioeducativas em [ Auditorio A102 d
 o Cad 2]
DTSTART;TZID=America/Sao_Paulo;VALUE=DATE-TIME:20200507T080000
DTEND;TZID=America/Sao_Paulo;VALUE=DATE-TIME:20200508T180000
DTSTAMP;VALUE=DATE-TIME:20260424T233746Z
UID:245f8588180244728d1766def6a2a06d@150.164.76.86:8080
CREATED;VALUE=DATE-TIME:20200115T133218Z
DESCRIPTION:Equipamentos: computador\, data-show. \n\nProgramação do eve
 nto (em construção): \n Dia 07/05/20\n8h30min às 9h30min - credenciamen
 to\n9h30min às 10h30min - Mesa 1: conjuntura da política nacional e a vi
 olação de direitos\n10h30min às 12h - Mesa 2: Sexualidade e violência\
 n12h às 13h30min - pausa para almoço\n13h30min às 15h - Maternidade em 
 unidades socioeducativas. \nDia 08/05/20\n8h30min às 10h - Mesa 3: LBTFob
 ia e relações afetivo-sexuais\n10h às 10h30min - intervalo para lanche\
 n10h30min às 12h - Mesa 4 - Transgêneros em unidades socioeducativas\n12
 h às 13h30min - intervalo para almoço\n13h30min às 15h - Mesa 5 - Forma
 ção e participação dos trabalhadores socioeducativos\n15h às 17h - Pl
 enária
LAST-MODIFIED;VALUE=DATE-TIME:20200121T133746Z
URL:http://150.164.76.86:8080/cac/agenda/1772214635082391120
END:VEVENT
BEGIN:VTIMEZONE
TZID:America/Sao_Paulo
X-LIC-LOCATION:America/Sao_Paulo
BEGIN:STANDARD
DTSTART;VALUE=DATE-TIME:20200215T230000
TZNAME:BRT
TZOFFSETFROM:-0200
TZOFFSETTO:-0300
END:STANDARD
END:VTIMEZONE
END:VCALENDAR
