BEGIN:VCALENDAR
VERSION:2.0
PRODID:-//Plone.org//NONSGML plone.app.event//EN
X-WR-TIMEZONE:America/Sao_Paulo
BEGIN:VEVENT
SUMMARY:XIII Encontro de Pesquisa em Parasitologia em [ Auditorio Nobre do
  CAD 1]
DTSTART;TZID=America/Sao_Paulo;VALUE=DATE-TIME:20241127T080000
DTEND;TZID=America/Sao_Paulo;VALUE=DATE-TIME:20241130T210000
DTSTAMP;VALUE=DATE-TIME:20260419T192509Z
UID:371c9f8b9b18403597bc5aa5bc9609d8@150.164.76.86:8080
CREATED;VALUE=DATE-TIME:20230919T222613Z
DESCRIPTION:<p>Data show Computador Som microfones mesa de abertura 02 mic
 rofones sem fio 30 paineis Programação: Programação preliminar do XIII
  Encontro de Pesquisa em Parasitologia: 28 e 29 de novembro de 2024 28/11/
 2024 - Quinta-feira 08h-09h Credenciamento 09h-10h CERIMÔNIA DE ABERTURA 
 Apresentação: Coral Cantáridas ICB/UFMG Composição da Mesa: Prof. Ric
 ardo Gonçalves (Diretor ICB/UFMG)\; Profa. Isabela Almeida Pordeus (Pró-
 Reitora de PG/UFMG) Profa. Hélida Monteiro de Andrade (Coordenadora PPG P
 arasitologia ICB/UFMG)\; Prof. Paulo Marcos Zech Coelho (Professor Aposent
 ado Departamento de Parasitologia ICB/UFMG)\; Prof. Ricardo Nascimento Ara
 újo (Chefe Departamento de Parasitologia ICB/UFMG)\; Profa. Deborah Apare
 cida Negrão- Corrêa (Professora Adjunta Departamento de Parasitologia IC
 B/UFMG) Profa. Maria Isabel Maldonado Coelho Guedes (Professora da EV-UFMG
 ) Profa. Glória Franco (Coordenadora do NAPg)\; Chiara Amorim (Discente P
 PG Parasitologia e representante discente da Comissão Organizadora 12º E
 PP) 10h -10h30 Coffee break 10h30- 11h30 Palestra abertura Palestra da ár
 ea do homenageado Moderador: 11 11h30-12h10 Conferência I Palestrante Mod
 erador: 12 12h10-13h30 Almoço 13 13h30-15h30 Mesa Redonda I - três pales
 trantes Moderadora: 15 15h30-16h30 Apresentação oral 1 16h30-17h Coffee 
 break 17h-17h40 Conferência II Palestrante Moderador: 17h40-20h Apresenta
 ção dos Pôsteres 29/11/2024 - Sexta-feira 09h-09h40 Conferência III Pa
 lestrante Moderador: 09h40-10h20 Conferência IV Palestrante Moderador: 10
 h20-10h50 Coffee Break 10h50-11h30 Conferência V Palestrante Moderador: 1
 1h30-12h10 Conferência VI Palestrante Moderador: 12h10-13h30 Almoço 13h3
 0-15h30 Mesa Redonda II três palestrantes Moderadora: Érika Martins Brag
 a 15h30-16h30 Apresentação oral 16h30-17h Coffee break 17h-17h40 Confer
 ência VII Palestrante Moderador: 17h40-18h30 Melhores dissertação e tes
 e do Departamento de Parasitologia ICB/UFMG 18h30-19h30 ENCERRAMENTO Pales
 trante Moderador:</p>
LAST-MODIFIED;VALUE=DATE-TIME:20240715T195557Z
URL:http://150.164.76.86:8080/cac/agenda/1770650893462129512
END:VEVENT
BEGIN:VTIMEZONE
TZID:America/Sao_Paulo
X-LIC-LOCATION:America/Sao_Paulo
BEGIN:DAYLIGHT
DTSTART;VALUE=DATE-TIME:20241020T010000
TZNAME:BRST
TZOFFSETFROM:-0300
TZOFFSETTO:-0200
END:DAYLIGHT
END:VTIMEZONE
END:VCALENDAR
