BEGIN:VCALENDAR
VERSION:2.0
PRODID:-//Plone.org//NONSGML plone.app.event//EN
X-WR-TIMEZONE:America/Sao_Paulo
BEGIN:VEVENT
SUMMARY:Semana de Orientação do Estudante Internacional - SOEI em [ Audi
 torio da Reitoria]
DTSTART;TZID=America/Sao_Paulo;VALUE=DATE-TIME:20220817T080000
DTEND;TZID=America/Sao_Paulo;VALUE=DATE-TIME:20220817T130000
DTSTAMP;VALUE=DATE-TIME:20260422T024645Z
UID:dd367200d3874b1e921440e3ddbd741c@150.164.76.86:8080
CREATED;VALUE=DATE-TIME:20220607T113307Z
DESCRIPTION:<p>Solicitamos\, gentilmente\, a reserva do AUDITÓRIO DA REIT
 ORIA para a realização das palestras de recepção\, acolhimento e orien
 tação dos intercambistas da UFMG. A atividade faz parte da programação
  da Semana de Orientação do Estudante Internacional da UFMG - SOEI. DATA
 : 17 DE AGOSTO DE 2022 – DE 8H ÁS 13H.</p>
LAST-MODIFIED;VALUE=DATE-TIME:20220608T183951Z
URL:http://150.164.76.86:8080/cac/agenda/17690377035165116417
END:VEVENT
BEGIN:VTIMEZONE
TZID:America/Sao_Paulo
X-LIC-LOCATION:America/Sao_Paulo
BEGIN:STANDARD
DTSTART;VALUE=DATE-TIME:20220219T230000
TZNAME:BRT
TZOFFSETFROM:-0200
TZOFFSETTO:-0300
END:STANDARD
END:VTIMEZONE
END:VCALENDAR
