BEGIN:VCALENDAR
VERSION:2.0
PRODID:-//Plone.org//NONSGML plone.app.event//EN
X-WR-TIMEZONE:America/Sao_Paulo
BEGIN:VEVENT
SUMMARY:Intelligence and Artificial Intelligence em [ Auditorio Nobre do C
 AD 1]
DTSTART;TZID=America/Sao_Paulo;VALUE=DATE-TIME:20221107T090000
DTEND;TZID=America/Sao_Paulo;VALUE=DATE-TIME:20221111T190000
DTSTAMP;VALUE=DATE-TIME:20260421T221837Z
UID:2d24d3a4a2fd4740b2f72fda56e594f1@150.164.76.86:8080
CREATED;VALUE=DATE-TIME:20211029T135910Z
DESCRIPTION:<p>Programação do evento ainda a definir\, mas iremos precis
 ar dos serviços de audiovisual disponíveis na CAC\, pois o evento contar
 á com transmissão online para uma plataforma de eventos. Possivelmente\,
  teremos uma empresa de eventos nos auxiliando na organização e execuç
 ão do evento.</p>
LAST-MODIFIED;VALUE=DATE-TIME:20220809T143255Z
URL:http://150.164.76.86:8080/cac/agenda/17672409074902401325
END:VEVENT
BEGIN:VTIMEZONE
TZID:America/Sao_Paulo
X-LIC-LOCATION:America/Sao_Paulo
BEGIN:DAYLIGHT
DTSTART;VALUE=DATE-TIME:20221016T010000
TZNAME:BRST
TZOFFSETFROM:-0300
TZOFFSETTO:-0200
END:DAYLIGHT
END:VTIMEZONE
END:VCALENDAR
