BEGIN:VCALENDAR
VERSION:2.0
PRODID:-//Plone.org//NONSGML plone.app.event//EN
X-WR-TIMEZONE:America/Sao_Paulo
BEGIN:VEVENT
SUMMARY:Seminários sobre Monitoramento Hidrometeorológico no Brasil em [
  Auditório B106 do CAD3]
DTSTART;TZID=America/Sao_Paulo;VALUE=DATE-TIME:20241216T090000
DTEND;TZID=America/Sao_Paulo;VALUE=DATE-TIME:20241216T190000
DTSTAMP;VALUE=DATE-TIME:20260419T163923Z
UID:616f98d86ca84968abab89ef965e26a4@150.164.76.86:8080
CREATED;VALUE=DATE-TIME:20241118T144547Z
DESCRIPTION:<p>Rodada de seminários e mesas redondas com várias palestra
 s de especialistas (geólogos\, hidrogeólogos\, hidrólogos e engenheiros
 ) para discutir e debater sobre os desafios e rumos futuros a respeito dos
  monitoramentos hidrometeorológicos no Brasil.</p>
LAST-MODIFIED;VALUE=DATE-TIME:20241204T143848Z
URL:http://150.164.76.86:8080/cac/agenda/17629715582859109131
END:VEVENT
BEGIN:VTIMEZONE
TZID:America/Sao_Paulo
X-LIC-LOCATION:America/Sao_Paulo
BEGIN:DAYLIGHT
DTSTART;VALUE=DATE-TIME:20241020T010000
TZNAME:BRST
TZOFFSETFROM:-0300
TZOFFSETTO:-0200
END:DAYLIGHT
END:VTIMEZONE
END:VCALENDAR
