BEGIN:VCALENDAR
VERSION:2.0
PRODID:-//Plone.org//NONSGML plone.app.event//EN
X-WR-TIMEZONE:America/Sao_Paulo
BEGIN:VEVENT
SUMMARY:Gene Time 2022 em [ Auditorio Nobre do CAD 1]
DTSTART;TZID=America/Sao_Paulo;VALUE=DATE-TIME:20220824T080000
DTEND;TZID=America/Sao_Paulo;VALUE=DATE-TIME:20220827T090000
DTSTAMP;VALUE=DATE-TIME:20260422T041920Z
UID:4437999412ef43a08e01d887daeb1dc1@150.164.76.86:8080
CREATED;VALUE=DATE-TIME:20211222T220920Z
DESCRIPTION:<p>Equipamentos e serviços: computador alto falantes mesa cad
 eiras suportes para pôster púlpito Microfone na mesa e no púpito telão
  projetor multimídia internet O Evento vai ocorrer do dia 24 ao dia 26. S
 olicitamos um dia a antes para montagem e um dia depois para desmontar. A 
 sessão de posteres vai ocorrer no saguão concomitantemente com o coffe b
 reak. A depender dos patrocinadores\, poderão haver alguns stands para mo
 strar produtos e serviços de empresas. Não será permitido comercializa
 ção destes produtos por parte das empressas. A seguir uma planejamento a
 inda incipiente do envento: PROGRAMAÇÃO DIA 0 24.08.22 Minicursos e ante
 riores A tarde palestrante Internacional??? Inidividual 30 min Se for duas
  pessoas 1 hora Mostrar problemas e soluções para cada item (“protocol
 os”). LINHAS DE PESQUISA 1- Diversidade: master class Mulheres na ciênc
 ia 2- Diversidade: master class Parent science 3- Diversidade: master clas
 s cor * *O IBGE pesquisa a cor ou raça da população brasileira com base
  na autodeclaração. Ou seja\, as pessoas são perguntadas sobre sua cor 
 de acordo com as seguintes opções: preta\, parda\, indígena ou amarela.
  4- Diversidade: master class LGBTQI+ 5- Diversidade: master class Saúde 
 mental DIA 1 25.08.22 Cerimônia de abertura mesa + apresentação artíst
 ica Palestra de abertura do dia 1 palestra Sessão 1: Genética de Microor
 ganismos 1 mediador 3 palestrantes (3x 20min) 2 apresentações orais (2x 
 10min) (SHORT TALK OR FLASH TALK) mesa com perguntas 20 min Palestra técn
 ica Pôster + coffee break Sessão 2: Genética Animal e Médica 1 mediado
 r 3 palestrantes (3x 20min) 2 apresentações orais (2x 10min) mesa com pe
 rguntas 20 min Sessão 3: Genética Vegetal 1 mediador 3 palestrantes (3x 
 20min) 2 apresentações orais (2x 10min) mesa com perguntas 20 min Master
  Class 18-30-20:55: Tema avançado sobre um assunto DIA 2 26.08.22 Palestr
 a de abertura do dia 1 palestra Sessão 4: Epigenética e Genética do Des
 envolvimento 1 mediador 3 palestrantes (3x 20min) 2 apresentações orais 
 (2x 10min) mesa com perguntas 20 min Sessão 5: Genética da Conservação
  1 mediador 3 palestrantes (3x 20min) 2 apresentações orais (2x 10min) m
 esa com perguntas 20 min Palestra técnica Pôster + coffee break Sessão 
 6: Ensino e Divulgação Científica 1 mediador 3 palestrantes (3x 20min) 
 2 apresentações orais (2x 10min) mesa com perguntas 20 min 18-21 Encerra
 mento</p>
LAST-MODIFIED;VALUE=DATE-TIME:20220523T141037Z
URL:http://150.164.76.86:8080/cac/agenda/17621109420425820570
END:VEVENT
BEGIN:VTIMEZONE
TZID:America/Sao_Paulo
X-LIC-LOCATION:America/Sao_Paulo
BEGIN:STANDARD
DTSTART;VALUE=DATE-TIME:20220219T230000
TZNAME:BRT
TZOFFSETFROM:-0200
TZOFFSETTO:-0300
END:STANDARD
END:VTIMEZONE
END:VCALENDAR
