BEGIN:VCALENDAR
VERSION:2.0
PRODID:-//Plone.org//NONSGML plone.app.event//EN
X-WR-TIMEZONE:America/Sao_Paulo
BEGIN:VEVENT
SUMMARY:Ensaio Transmissão apuração sorteio vagas EMEI Alaíde Lisboa e
 m [ Outros espacos]
DTSTART;TZID=America/Sao_Paulo;VALUE=DATE-TIME:20241112T140000
DTEND;TZID=America/Sao_Paulo;VALUE=DATE-TIME:20241112T150000
DTSTAMP;VALUE=DATE-TIME:20260419T175654Z
UID:3713d63e3b7f4e7a84ae200bb77e1294@150.164.76.86:8080
CREATED;VALUE=DATE-TIME:20241010T181657Z
DESCRIPTION:<p>Ensaio da transmissão do dia 13/11/2024</p>
LAST-MODIFIED;VALUE=DATE-TIME:20241010T181712Z
URL:http://150.164.76.86:8080/cac/agenda/17620388098944275351
END:VEVENT
BEGIN:VTIMEZONE
TZID:America/Sao_Paulo
X-LIC-LOCATION:America/Sao_Paulo
BEGIN:DAYLIGHT
DTSTART;VALUE=DATE-TIME:20241020T010000
TZNAME:BRST
TZOFFSETFROM:-0300
TZOFFSETTO:-0200
END:DAYLIGHT
END:VTIMEZONE
END:VCALENDAR
