BEGIN:VCALENDAR
VERSION:2.0
PRODID:-//Plone.org//NONSGML plone.app.event//EN
X-WR-TIMEZONE:America/Sao_Paulo
BEGIN:VEVENT
SUMMARY:Palestra Introdutória para Servidores TAES - Recém admitidos em 
 [ Auditorio A102 do Cad 2]
DTSTART;TZID=America/Sao_Paulo;VALUE=DATE-TIME:20250214T130000
DTEND;TZID=America/Sao_Paulo;VALUE=DATE-TIME:20250214T170000
DTSTAMP;VALUE=DATE-TIME:20260419T134036Z
UID:d8e516a458854eae9c55dd99e0500dff@150.164.76.86:8080
CREATED;VALUE=DATE-TIME:20250130T143211Z
DESCRIPTION:Notebook\, Projetor\, 2 microfones (1 para mesa e 1 para o pub
 lico)
LAST-MODIFIED;VALUE=DATE-TIME:20250130T145824Z
URL:http://150.164.76.86:8080/cac/agenda/17608653060046746829
END:VEVENT
BEGIN:VTIMEZONE
TZID:America/Sao_Paulo
X-LIC-LOCATION:America/Sao_Paulo
BEGIN:DAYLIGHT
DTSTART;VALUE=DATE-TIME:20241020T010000
TZNAME:BRST
TZOFFSETFROM:-0300
TZOFFSETTO:-0200
END:DAYLIGHT
END:VTIMEZONE
END:VCALENDAR
