BEGIN:VCALENDAR
VERSION:2.0
PRODID:-//Plone.org//NONSGML plone.app.event//EN
X-WR-TIMEZONE:America/Sao_Paulo
BEGIN:VEVENT
SUMMARY:Teste em [ Auditorio Nobre do CAD 1]
DTSTART;TZID=America/Sao_Paulo;VALUE=DATE-TIME:20220210T130000
DTEND;TZID=America/Sao_Paulo;VALUE=DATE-TIME:20220210T140000
DTSTAMP;VALUE=DATE-TIME:20260422T111702Z
UID:40bc098993a64324b2e0b905a08faff2@150.164.76.86:8080
CREATED;VALUE=DATE-TIME:20220204T160134Z
DESCRIPTION:Teste
LAST-MODIFIED;VALUE=DATE-TIME:20220214T132736Z
URL:http://150.164.76.86:8080/cac/agenda/17598281011617142273
END:VEVENT
BEGIN:VTIMEZONE
TZID:America/Sao_Paulo
X-LIC-LOCATION:America/Sao_Paulo
BEGIN:DAYLIGHT
DTSTART;VALUE=DATE-TIME:20211017T010000
TZNAME:BRST
TZOFFSETFROM:-0300
TZOFFSETTO:-0200
END:DAYLIGHT
END:VTIMEZONE
END:VCALENDAR
