BEGIN:VCALENDAR
VERSION:2.0
PRODID:-//Plone.org//NONSGML plone.app.event//EN
X-WR-TIMEZONE:America/Sao_Paulo
BEGIN:VEVENT
SUMMARY:Reunião com Seções de Pessoal da UFMG em [ Outros espacos]
DTSTART;TZID=America/Sao_Paulo;VALUE=DATE-TIME:20220707T140000
DTEND;TZID=America/Sao_Paulo;VALUE=DATE-TIME:20220707T170000
DTSTAMP;VALUE=DATE-TIME:20260422T044832Z
UID:e208acd924d74b9ebc9f2273591849ae@150.164.76.86:8080
CREATED;VALUE=DATE-TIME:20220704T205102Z
DESCRIPTION:REUNIÃO COM SEÇÕES DE PESSOAL DA UFMG
LAST-MODIFIED;VALUE=DATE-TIME:20220705T121928Z
URL:http://150.164.76.86:8080/cac/agenda/17593408609229638942
END:VEVENT
BEGIN:VTIMEZONE
TZID:America/Sao_Paulo
X-LIC-LOCATION:America/Sao_Paulo
BEGIN:STANDARD
DTSTART;VALUE=DATE-TIME:20220219T230000
TZNAME:BRT
TZOFFSETFROM:-0200
TZOFFSETTO:-0300
END:STANDARD
END:VTIMEZONE
END:VCALENDAR
