BEGIN:VCALENDAR
VERSION:2.0
PRODID:-//Plone.org//NONSGML plone.app.event//EN
X-WR-TIMEZONE:America/Sao_Paulo
BEGIN:VEVENT
SUMMARY:Palestra: Transformando Dados em Resultados em [ Auditório B101/1
 02 do CAD 3]
DTSTART;TZID=America/Sao_Paulo;VALUE=DATE-TIME:20250321T100000
DTEND;TZID=America/Sao_Paulo;VALUE=DATE-TIME:20250321T120000
DTSTAMP;VALUE=DATE-TIME:20260419T115852Z
UID:dc614c4f7bf74f0ca4a440e89f29f908@150.164.76.86:8080
CREATED;VALUE=DATE-TIME:20250317T142337Z
DESCRIPTION:Vamos apenas utilizar o microfone já disponível. Não vai ha
 ver transmissão ou gravação.
LAST-MODIFIED;VALUE=DATE-TIME:20250318T144403Z
URL:http://150.164.76.86:8080/cac/agenda/17587724230067983103
END:VEVENT
BEGIN:VTIMEZONE
TZID:America/Sao_Paulo
X-LIC-LOCATION:America/Sao_Paulo
BEGIN:STANDARD
DTSTART;VALUE=DATE-TIME:20250215T230000
TZNAME:BRT
TZOFFSETFROM:-0200
TZOFFSETTO:-0300
END:STANDARD
END:VTIMEZONE
END:VCALENDAR
