BEGIN:VCALENDAR
VERSION:2.0
PRODID:-//Plone.org//NONSGML plone.app.event//EN
X-WR-TIMEZONE:America/Sao_Paulo
BEGIN:VEVENT
SUMMARY:Reunião com Diretores e Coordenadores de Cursos de Graduação em
  Licenciatura. em [ Outros espacos]
DTSTART;TZID=America/Sao_Paulo;VALUE=DATE-TIME:20240403T093000
DTEND;TZID=America/Sao_Paulo;VALUE=DATE-TIME:20240403T113000
DTSTAMP;VALUE=DATE-TIME:20260420T031252Z
UID:184d4e8174194d1f9f20a9980eb6cec1@150.164.76.86:8080
CREATED;VALUE=DATE-TIME:20240312T142613Z
DESCRIPTION:microfone de mesa e avulso\, projeção.
LAST-MODIFIED;VALUE=DATE-TIME:20240312T152910Z
URL:http://150.164.76.86:8080/cac/agenda/17566522648628216235
END:VEVENT
BEGIN:VTIMEZONE
TZID:America/Sao_Paulo
X-LIC-LOCATION:America/Sao_Paulo
BEGIN:STANDARD
DTSTART;VALUE=DATE-TIME:20240217T230000
TZNAME:BRT
TZOFFSETFROM:-0200
TZOFFSETTO:-0300
END:STANDARD
END:VTIMEZONE
END:VCALENDAR
