BEGIN:VCALENDAR
VERSION:2.0
PRODID:-//Plone.org//NONSGML plone.app.event//EN
X-WR-TIMEZONE:America/Sao_Paulo
BEGIN:VEVENT
SUMMARY:Treinamento dos monitores para Mostra Sua UFMG 2023 em [ Auditóri
 o B106 do CAD3]
DTSTART;TZID=America/Sao_Paulo;VALUE=DATE-TIME:20230510T103000
DTEND;TZID=America/Sao_Paulo;VALUE=DATE-TIME:20230510T130000
DTSTAMP;VALUE=DATE-TIME:20260421T115801Z
UID:328bc6978238487589a116997da14fce@150.164.76.86:8080
CREATED;VALUE=DATE-TIME:20230504T135138Z
DESCRIPTION:<p>Microfone de mesa e se possível projeção.</p>
LAST-MODIFIED;VALUE=DATE-TIME:20230509T194906Z
URL:http://150.164.76.86:8080/cac/agenda/17557343527397324111
END:VEVENT
BEGIN:VTIMEZONE
TZID:America/Sao_Paulo
X-LIC-LOCATION:America/Sao_Paulo
BEGIN:STANDARD
DTSTART;VALUE=DATE-TIME:20230225T230000
TZNAME:BRT
TZOFFSETFROM:-0200
TZOFFSETTO:-0300
END:STANDARD
END:VTIMEZONE
END:VCALENDAR
