BEGIN:VCALENDAR
VERSION:2.0
PRODID:-//Plone.org//NONSGML plone.app.event//EN
X-WR-TIMEZONE:America/Sao_Paulo
BEGIN:VEVENT
SUMMARY:III Congresso Mineiro de Gestalt-terapia em [ Auditorio Nobre do C
 AD 1]
DTSTART;TZID=America/Sao_Paulo;VALUE=DATE-TIME:20241008T080000
DTEND;TZID=America/Sao_Paulo;VALUE=DATE-TIME:20241011T200000
DTSTAMP;VALUE=DATE-TIME:20260419T193238Z
UID:4561b1eaad06437185e2a2a919ed9954@150.164.76.86:8080
CREATED;VALUE=DATE-TIME:20231107T223025Z
DESCRIPTION:<p>Para a realização do congresso\, serão necessários equi
 pamentos de audiovisual do auditório do CAD1. 9/10/2024: 17h - credenciam
 ento (saguão do CAD 1) 18h às 20h30 - conferências no auditório nobre 
 do CAD 1 10/10/2024: 8h às 19h30 - conferências no auditório nobre do C
 AD 1 19h30 às 20h30 - lançamento de livro no saguão do CAD 1 11/10/2024
  8h às 20h - conferências no auditório nobre do CAD 1</p>
LAST-MODIFIED;VALUE=DATE-TIME:20240910T223307Z
URL:http://150.164.76.86:8080/cac/agenda/17547080328545056063
END:VEVENT
BEGIN:VTIMEZONE
TZID:America/Sao_Paulo
X-LIC-LOCATION:America/Sao_Paulo
BEGIN:STANDARD
DTSTART;VALUE=DATE-TIME:20240217T230000
TZNAME:BRT
TZOFFSETFROM:-0200
TZOFFSETTO:-0300
END:STANDARD
END:VTIMEZONE
END:VCALENDAR
