BEGIN:VCALENDAR
VERSION:2.0
PRODID:-//Plone.org//NONSGML plone.app.event//EN
X-WR-TIMEZONE:America/Sao_Paulo
BEGIN:VEVENT
SUMMARY:Treinamento de alunos Voluntários Mostra Sua UFMG 2025 em [ Audit
 orio A104 do Cad 2]
DTSTART;TZID=America/Sao_Paulo;VALUE=DATE-TIME:20250516T123000
DTEND;TZID=America/Sao_Paulo;VALUE=DATE-TIME:20250516T133000
DTSTAMP;VALUE=DATE-TIME:20260419T090922Z
UID:20f3bb34a10944d08275741b96474193@150.164.76.86:8080
CREATED;VALUE=DATE-TIME:20250430T201730Z
DESCRIPTION:treinamento com os estudantes voluntários\, presencial às 12
 :30 - 13:30.\nPrevisão media de 150 pessoas\, as inscrição ficaram aber
 tas ate o dia 09/05.
LAST-MODIFIED;VALUE=DATE-TIME:20250501T154202Z
URL:http://150.164.76.86:8080/cac/agenda/17538010978937501169
END:VEVENT
BEGIN:VTIMEZONE
TZID:America/Sao_Paulo
X-LIC-LOCATION:America/Sao_Paulo
BEGIN:STANDARD
DTSTART;VALUE=DATE-TIME:20250215T230000
TZNAME:BRT
TZOFFSETFROM:-0200
TZOFFSETTO:-0300
END:STANDARD
END:VTIMEZONE
END:VCALENDAR
