BEGIN:VCALENDAR
VERSION:2.0
PRODID:-//Plone.org//NONSGML plone.app.event//EN
X-WR-TIMEZONE:America/Sao_Paulo
BEGIN:VEVENT
SUMMARY:Transmissão sorteio EMEI Alaíde Lisboa em [ Outros espacos]
DTSTART;TZID=America/Sao_Paulo;VALUE=DATE-TIME:20231122T140000
DTEND;TZID=America/Sao_Paulo;VALUE=DATE-TIME:20231122T150000
DTSTAMP;VALUE=DATE-TIME:20260420T130505Z
UID:bcb2e72d10cd406fbe9f21bb93793dd0@150.164.76.86:8080
CREATED;VALUE=DATE-TIME:20230822T142505Z
DESCRIPTION:<p>Evento on line. Transmissão do sorteio das vagas da comuni
 dade UFMG na EMEI Alaíde Lisboa.</p>
LAST-MODIFIED;VALUE=DATE-TIME:20231019T133538Z
URL:http://150.164.76.86:8080/cac/agenda/17537281533710054483
END:VEVENT
BEGIN:VTIMEZONE
TZID:America/Sao_Paulo
X-LIC-LOCATION:America/Sao_Paulo
BEGIN:DAYLIGHT
DTSTART;VALUE=DATE-TIME:20231015T010000
TZNAME:BRST
TZOFFSETFROM:-0300
TZOFFSETTO:-0200
END:DAYLIGHT
END:VTIMEZONE
END:VCALENDAR
